Workbook

Sheet チェックリスト
F1: ※このリストは提出する必要はありません。
A3: ☆ ◎は必ず提出してください。〇は該当する場合に提出してください。
A4: ☆ 郵送申請の場合、申請書類は、下記の順番に揃え、ダブルクリップ等でとめて提出してください。
A6: 提出書類 | B6: 内容説明及び注意事項等 | D6: 提出部数 | E6: 電子申請 | F6: 郵送申請
A7: 様式第１号 | B7: 申請書 | D7: 1 | E7: ﾌｫｰﾑ入力 | F7: ◎
A8: 様式第２号 | B8: 使用印鑑届 | D8: 1 | E8: ◎ 電子添付 | F8: ◎
A9: 様式第３号 | B9: 委任状況シート（取引に係る権限の一部を委任する場合のみ） ※全ての権限を委任する場合は、不要です。 | D9: 1 | E9: ○ （該当者のみ） 電子添付 | F9: ○ （該当者のみ）
A10: 様式第４号 | B10: 契約実績一覧表 | D10: 1 | E10: ◎ 電子添付 | F10: ◎
A11: 様式第５号 | B11: 取扱品目説明一覧表 | D11: 業種毎各1 | E11: ◎ 電子添付 | F11: ◎
A12: プロパンガス販売業者 必要書類（コピー可） | B12: 液化石油ガス販売事業者登録簿又は事業登録証 | D12: 1 | E12: ○ （該当者のみ） 電子添付 | F12: ○ （該当者のみ）
B13: ＬＰガス業者賠償責任保険付保証明書 | D13: 1
B14: 保安業務を行う者の認定証又は委託契約書 | D14: 1
A15: 古物商許可証（コピー可） | B15: 不用品買入業者 | D15: 1 | E15: ○ （該当者のみ） 電子添付 | F15: ○ （該当者のみ）
A16: 様式第５号の２ | B16: 印刷物取扱調書（印刷業者のみ） | D16: 1 | E16: ○ （該当者のみ） 電子添付 | F16: ○ （該当者のみ）
A17: 様式第５号の３ | B17: 生産設備明細書（車両修理業者のみ） | D17: 1 | E17: ○ （該当者のみ） 電子添付 | F17: ○ （該当者のみ）
A18: 受託車両保険証書 （コピー可） | B18: 車両修理業者。様式第６号の３｢生産設備明細書｣に添付 | D18: 1 | E18: ○ （該当者のみ） 電子添付 | F18: ○ （該当者のみ）
A19: 様式第６号 | B19: 適正な労働環境の確保に向けた取組に係る誓約書 | D19: 1 | E19: ﾌｫｰﾑ入力 | F19: ◎
A20: 就業規則届の写し | B20: ＜労働者（パート、アルバイトを含む）を雇用している場合のみ提出＞ 様式第６号へ添付すること。労働基準監督署の受付印が押印されたページのみで可。 受付印がない場合は、届の写しの１ページ目に「本資料は労働基準監督署へ提出したものに相違ありません」と記載、捺印（代表者印）の上、ご提出をお願いします。 | C20: ※常時使用する労働者が10人未満である場合は不要 | D20: 1 | E20: ◎ 電子添付 | F20: ◎
A21: ３６協定届の写し | C21: ※労働時間の延長又は休日労働を行わせていない場合は不要 | D21: 1 | E21: ◎ 電子添付 | F21: ◎
A22: 登記事項証明書 （法人のみ・コピー可） | B22: 受理日から起算して３か月以内に発行されたもの（法務局発行） ※現在事項全部証明書又は履歴事項全部証明書を提出してください。 | D22: 1 | E22: ◎ 電子添付 | F22: ◎
A23: 消費税納税証明書 （コピー可） | B23: 納税証明書「その３」「消費税及び地方消費税」の未納がないことの証明（税務署発行）（その３の３、その３の２でも可）。受理日から起算して３か月以内に発行されたもの。 ※免税事業者の方も必要です。 ※電子納税証明書可 | D23: 1 | E23: ◎ 電子添付 | F23: ◎
A24: 市税滞納有無調査承諾書 | B24: 本市市税（延滞金含む。）滞納の有無を調査されることについての承諾書 | D24: 1 | E24: ﾌｫｰﾑ入力 ※「同意します」の選択のみ | F24: ◎
A25: 財務諸表 （コピー可） | B25: 法人：貸借対照表、損益計算書（直近１年度分） 人格のない社団等：貸借対照表、損益計算書等（正味財産増減計算書 または事業活動計算書でも可。）（直近１年度分） 個人：所得税確定申告書第一表（直近１年分） | D25: 各1 | E25: ◎ 電子添付 | F25: ◎
A26: 役員等名簿及び 照会承諾書 | B26: 書き方を参照のうえ、該当する方（役員等） ※ただし、建設業法（昭和２４年法律第１００号）に基づく一般建設業及び特定建設業の許可、廃棄物の処理及び清掃に関する法律（昭和４５年法律第１３７号）に基づく産業廃棄物・特別産業廃棄物処理業の許可、警備業法（昭和４７年法律第１１７号）に基づく警備業の認定を受けている者は証明書の写しをもって省略可。 | D26: 1 | E26: ◎ 電子添付 | F26: ◎
A27: その他市長が必要と認める書類 | D27: 1 | E27: ○ （該当者のみ） 電子添付 | F27: ○ （該当者のみ）

Sheet 様1　申請書 
A1: 様式第１号（第２条関係）
AJ2: ※ | AL2: 決定№ | AX2: 資格認定日
AJ5: ※審査 | AL5: 課長 | AR5: 課長補佐 | AX5: 主査 | BD5: 担当者 | BJ5: 係員
B13: 令和8・9・10年度（2026・2027・2028年度） 物品競争入札（見積）参加資格審査申請書
AX16: 令和 年 月 日
D18: 熊 本 市 長 （宛）
B21: 熊本市が行う物品の売買又は修理等の契約に係る競争入札（見積）に参加したいので指定の書類を添えて入札参加資格の審査を申請します。 なお、申請者は、地方自治法施行令第167条の4第1項各号の規定に該当しない者であり、この競争入札等参加資格審査申請書及び添付書類の全ての記載事項は、事実と相違ないことを誓約します。 また、参加資格審査結果及び参加資格者名簿を市ホームページ等に公開すること及び申請者のメールアドレス（委任する場合は、支店、営業所等のメールアドレス）を電子契約において利用することを承諾します。
A30: 申請者（本社の情報を記載してください。） | AQ30: ※相手方番号
C32: 郵便番号 | AA32: 所在地区分 | AJ32: 市内 | AT32: 県内 | BD32: 県外
C33: 所 在 地
C36: （フ リ ガ ナ）
C37: 商号又は名称
C40: （フ リ ガ ナ） | M40: 職名 | AL40: 氏名
C41: 代表者職氏名
C44: 電話番号 | AL44: ＦＡＸ番号
C46: メールアドレス
C48: 熊本市内の支店・営業所等の有無 | Z48: 有 無
A50: 支店、営業所等(熊本市との入札及び契約等の権限を委任する場合のみ記載してください。)
C52: ＊本社代表者から支店・営業所長等に対し入札及び契約等の権限を委任した場合、 本社代表者名でなされた入札への参加申請等については無効となりますのでご注意ください。
C53: 郵便番号 | AA53: 所在地区分 | AJ53: 市内 | AT53: 県内 | BD53: 県外
C54: 所 在 地
C57: （フ リ ガ ナ）
C58: 商号又は名称 支店・営業所名
C61: （フ リ ガ ナ） | M61: 職名 | AL61: 氏名
C62: 代表者職氏名
C65: 電話番号 | AL65: ＦＡＸ番号
C67: メールアドレス
A70: 参加希望業種 | M70: ＊二つ以上の業種に参加希望の場合は、主の業種に◎印を、従の業種に○印を記入してください。
F72: 1 | I72: 印 刷 類 | U72: 5 | X72: 被服・繊維製品類 | AJ72: 8 | AM72: 電力・燃料類 | AY72: 11-1 | BB72: 教材類
F74: 2 | I74: 文具・事務機類 | U74: 6 | X74: 看板・資材類 | AJ74: 9 | AM74: 車両･船舶･航空機類 | AY74: 11-2 | BB74: 薬品・医療機器類
F76: 3 | I76: 家具・木工類 | U76: 7-1 | X76: 記念品類 | AJ76: 10-1 | AM76: 電気器具類 | AY76: 11-3 | BB76: その他
F78: 4 | I78: 楽器・運動用品類 | U78: 7-2 | X78: 荒物･金物･雑貨類 | AJ78: 10-2 | AM78: 機械・器具類 | AY78: 12 | BB78: 不 用 品
C81: 従業員数
C82: 従業員数 | AB82: 企業種別 | AJ82: 大企業 | AT82: 中・小企業 | BD82: その他
C84: 創業年月日 | AB84: 休業・転廃業期間 | AR84: 年間
A87: 連絡先（申請書の作成者を記載してください。）
C89: 担当部署 | AL89: 担当者名
C90: 電話番号 | AL90: ＦＡＸ番号
C91: メールアドレス
D93: 様1 | G93: 使用印 | J93: 委任 | M93: 様4 | P93: 様5 | S93: 様6 | V93: ﾌﾟﾛﾊﾟﾝ | Y93: 古物 | AB93: 印刷 | AE93: 車両 | AH93: 登記 | AK93: 消費税 | AN93: 市税 | AQ93: 決算 | AT93: 役員
...

Sheet 様２　使用印届
A1: 様式第２号（第２条関係）
A6: 使 用 印 鑑 届
G10: =IF('様1 申請書 '!AX16="","",'様1 申請書 '!AX16) -> 令和 年 月 日
B14: 商号又は名称 | D14: =IF('様1 申請書 '!M37="","",'様1 申請書 '!M37)
D21: 使用印
A42: 上記の印鑑を、次の行為について、使用します。
C44: １. 契約の締結に関する件
C46: ２. その他、上記に付帯する一切の件
A61: ※本市との契約事務手続きに使用する印を押印してください。 ※社名などの会社印のみでの申請はできませんので、代表者印又は代表者の私印で申請してください。 | K61: ここはもともと赤字
I62: （令和8年 8月 改正）

Sheet 様3　委任状況シート
A1: 様式第3号（第2条関係）
A3: 委任状況シート
B5: 委任者情報
C7: 所在地 | E7: =IF('様1 申請書 '!M33="","",'様1 申請書 '!M33)
C8: 商号または名称 | E8: =IF('様1 申請書 '!M37="","",'様1 申請書 '!M37)
C9: 役職名 | E9: =IF('様1 申請書 '!P41="","",'様1 申請書 '!P41)
C10: 代表者氏名 | E10: =IF('様1 申請書 '!AQ41="","",'様1 申請書 '!AQ41)
B12: 受任者情報
C13: 受任者情報１
C14: 所在地
C15: 商号または名称
C16: 役職名
C17: 代表者氏名
C18: 委任情報 | E18: 契約代金の請求に関する件
E19: 契約代金の受領に関する件
E20: 保証金の納付に関する件
E21: 保証金の還付請求に関する件
E22: 保証金の領収に関する件
E23: 復代理人の選任に関する件
E24: その他、上記に付帯する一切の件
C26: 受任者情報２
C27: 所在地
C28: 商号または名称
C29: 役職名
C30: 代表者氏名
C31: 委任情報 | E31: 契約代金の請求に関する件
E32: 契約代金の受領に関する件
E33: 保証金の納付に関する件
E34: 保証金の還付請求に関する件
E35: 保証金の領収に関する件
E36: 復代理人の選任に関する件
E37: その他、上記に付帯する一切の件

Sheet 様4　契約実績一覧
B1: 様式第4号（第２条関係）
F4: 契 約 実 績 一覧 表
H8: 【 | I8: 【発注者コード】 | U8: Ａ | V8: ・ | W8: ・ | X8: ・ | Y8: 熊本市役所関係（出先機関含む。）
U9: Ｂ | V9: ・ | W9: ・ | X9: ・ | Y9: 他の官公庁（熊本市役所以外の地方公共団体、国、公社等）
U10: Ｃ | V10: ・ | W10: ・ | X10: ・ | Y10: 民間企業等（個人）
F11: 商号又は名称 | Q11: =IF('様1 申請書 '!M37="","",'様1 申請書 '!M37)
F14: 契約先（取引先） | W14: 発注者 コード | AC14: 契約実績額（千円） | AW14: 品 名
F62: 合計 | AC62: =IF(AC17&AC20&AC23&AC26&AC29&AC32&AC35&AC38&AC41&AC44&AC47&AC50&AC53&AC56&AC59="","",SUM(AC17:AV61))
AT65: （千円）
H66: 【注意事項】
G67: ① | I67: 直前事業年度の参加希望業種の売上を記入してください。
G68: ② | I68: 契約金額は、千円単位で記入してください（千円未満切捨て）。
G69: ③ | I69: 取引先が個人の場合は、契約先には「個人」と記入し、売上実績には個人分の契約総額をご記入
I70: ください。（取引実績がない場合は、「契約実績額」欄に「実績なし」と記入してください。）
G71: ④ | I71: 契約実績が1枚に入りきらない場合は、200万円以下は一括記載してください。
BF74: （令和8年 8月 改正）

Sheet 様5　取扱品目一覧
A1: 様式第５号（第２条関係）
E4: 取扱品目説明一覧表
E8: ◎取り扱い可能な品目及びメーカーを記入し、各希望業種毎に提出してください。
E10: 参加希望業種名
BW12: １ 印 刷 類
BW13: ２ 文具・事務機類
E14: 商号又は名称 支店・営業所名 | R14: =IF('様1 申請書 '!M37="","",IF('様1 申請書 '!M58="",'様1 申請書 '!M37,'様1 申請書 '!M58)) | AV14: 電話番号 | BC14: =IF('様1 申請書 '!M44="","",IF('様1 申請書 '!M65="",'様1 申請書 '!M44,'様1 申請書 '!M65)) | BW14: ３ 家具・木工類
BW15: ４ 楽器・運動用品類
BW16: ５ 被服・繊維製品類
G17: 委任先がある場合は、委任先を記入してください。 | BW17: ６ 看板・資材類
AV18: ＦＡＸ番号 | BC18: =IF('様1 申請書 '!AW44="","",IF('様1 申請書 '!AW65="",'様1 申請書 '!AW44,'様1 申請書 '!AW65)) | BW18: 7-1 記念品類
BW19: 7-2 荒物･金物･雑貨類
BW20: ８ 電力・燃料類
BW21: ９ 車両･船舶･航空機類
E22: 取 扱 品 目 | AK22: 取扱メーカー等 | BC22: 備考 | BW22: 10ｰ1 電気器具類
BW23: 10-2 機械･器具類
BW24: 11ｰ1 教材類
BW25: 11-2 薬品・医療機器類
BW26: 11-3 その他
BW27: 12 不用品
E74: 【注意事項】
E75: ・ | G75: 「取扱品目」は詳細に記入し、「取扱メーカー等」はできるだけ品目と関連づけて記入し、自社製品の場合は、自社製と記入してください。
E77: ・ | G77: 業種名の欄には、参加希望業種の番号、業種名を記入し、業種毎に分けて提出してください。
E79: ・ | G79: 取扱品目が多い場合は、別紙（書式自由）に記入し、当様式に添付して提出していただいても構いません。
AV82: ※ | AX82: 登録№
AY86: （令和7年 8月 改正）

Sheet 様5の2　取扱調書（印刷）
A1: 様式第５号の２（第２条関係）
BR2: ○
B3: 印刷物取扱調書（印刷業者用）
B7: 商号又は名称 支店・営業所名 | L7: =IF('様1 申請書 '!M37="","",IF('様1 申請書 '!M58="",'様1 申請書 '!M37,'様1 申請書 '!M58))
B11: 取引を希望するものに○をつけてください。
E14: 1 活 版（活版・凸版） | Z14: 2 軽印刷（静電子製版・PTO） | AZ14: 3 平 版＜オフセット＞
E17: 4 フォーム印刷 | T17: 5 オンデマンド印刷（デジタル印刷） | AV17: 6 その他 | BC17: ( | BO17: )
B21: 1 取扱業務 ※自社で出来るものは区分欄に○をつけてください。
B23: 業 務 内 容 | AA23: 区 分 | AI23: 業 務 内 容 | BH23: 区 分
B25: 企画 | AI25: 製版（アナログ）
B27: 入力・編集 | AI27: 印刷
B29: デザイン | AI29: 製本
B31: 製版（ＤＴＰ）
B34: 2 取扱印刷類 ※自社で出来るものは区分欄に○をつけてください。
B36: 印 刷 物 | AA36: 区 分 | AI36: 印 刷 物 | BH36: 区 分
B38: 端物類（単色） | AI38: 青写真
B40: 端物類（カラー） | AI40: カラーコピー
B42: 冊子類（単色） | AI42: マイクロフィルム
B44: 冊子類（カラー） | AI44: スクリーン印刷
B46: ポスター・リーフレット類 | AI46: 点字印刷
B48: カレンダー | AI48: 翻訳印刷
B50: 電算連続帳票類 | AI50: ※その他可能な印刷
B52: ＯＣＲ等
B54: 伝票類（ﾉｰｶｰﾎﾞﾝ）
B56: 封筒類（製袋・印刷）
B58: 賞状類
B60: 地図（製図・印刷）
B62: 手帳類
B64: 証券印刷類
B66: 包装印刷類
B68: 段ボールケース類
B70: シール印刷
B73: 3 倉庫・部屋等のセキュリティ対策
B75: （1）金券や試験問題等を納品まで保管するためのセキュリティに考慮した部屋等の有無
E77: あり | N77: なし | Y77: ※どちらかに☑をつけてください。
B79: （2）具体的なセキュリティ対策
F81: ※（1）で「あり」と回答した場合のみ。該当するもの全てに☑をつけてください。
E82: 入退室記録 | O82: 部屋単独の施錠 | AB82: 防犯カメラ | AL82: その他（ | BO82: ）
AY85: （令和7年 8月 改正）
B87: 商号又は名称 支店・営業所名 | L87: =IF(OR('様1 申請書 '!C72="◎",'様1 申請書 '!C72="○"),'様5 取扱品目一覧'!R14,"")
...

Sheet 様5の3　生産設備明細書（車両） 
A1: 様式第５号の３（第２条関係）
A4: 生産設備明細書（車両修理業者用）
B8: 商号又は名称 支店・営業所名 | R8: =IF('様1 申請書 '!M37="","",IF('様1 申請書 '!M58="",'様1 申請書 '!M37,'様1 申請書 '!M58))
B15: 【自動車分解整備事業】（必須項目）
B16: 分解整備事業認証番号 | R16: 認証年月日 | AH16: 認証の種類 （該当するものに○）
G18: － | O18: 号 | R18: 年 月 日 | AK18: 普通自動車分解整備事業
AK19: 小型自動車分解整備事業
AK20: 軽自動車分解整備事業
B21: 分解整備に従事する従業員数 | R21: 有整備資格者数 | AH21: 工場の規模（いずれか一方の記載でも可）
AH22: 工場の車両収容面積 | AX22: 常時整備可能な台数
O23: 人 | AE23: 人 | AH23: （屋内） | AU23: ㎡ | BK23: 台
B27: 【優良自動車整備事業者】（※認定がある場合は記載してください。）
B28: 優良自動車整備事業者 認定番号 | R28: 認定年月日 | AH28: 認定の種類 （該当するものに○）
G30: － | O30: 号 | R30: 年 月 日 | AK30: 一種整備工場
AK31: 二種整備工場
AK32: 特殊整備工場 | AT32: ※右側にも○ | AZ32: 車体整備作業（一種）
AZ33: 車体整備作業（二種）
AZ34: 原動機整備作業
AZ35: 電気装置整備作業
AZ36: タイヤ整備作業
B38: 【指定自動車整備事業者】（※指定がある場合は記載してください。）
B39: 指定自動車整備事業者 指定番号 | R39: 指定年月日 | AH39: 自動車検査員 | AX39: 前年度車検整備台数
G41: － | O41: 号 | R41: 年 月 日 | AT41: 名 | BK41: 台
C45: 受託車両保険証書の写し貼付欄
D47: ◎紙申請の場合は、受託車両保険証書の写しを貼り付けてください。（別紙添付可）
D49: （電子申請の場合は、申請フォーム上で受託車両保険証書の写し（PDF）を添付してください。）
AY81: （令和7年 8月 改正）

Sheet 様６　誓約書（郵送のみ）
A1: 様式第６号（第２条関係）
A3: 適正な労働環境の確保に向けた取組に係る誓約書
A5: =IF('様1 申請書 '!AX16="","",'様1 申請書 '!AX16) -> 令和 年 月 日
A6: 熊本市長 様
B8: 所在地 | C8: =IF('様1 申請書 '!M33="","",'様1 申請書 '!M33)
A9: 商号又は名称 | B9: 商号又は名称 | C9: =IF('様1 申請書 '!M37="","",'様1 申請書 '!M37)
A10: 代表者職・氏名 | B10: 役職名 | C10: =IF('様1 申請書 '!P41="","",'様1 申請書 '!P41)
B11: 代表者氏名 | C11: =IF('様1 申請書 '!AQ41="","",'様1 申請書 '!AQ41)
A13: 熊本市公契約条例第８条の規定により、次のとおり誓約いたします。なお、契約の履行に当たっては、労働基準法その他の関係法令及び同条例を遵守します。
A15: 労働者（パート、アルバイトを含む）を雇用していますか。
C16: ⇒以下の項目すべてに回答してください。
C18: ⇒No.14について回答してください。
A20: 〔労働条件〕
A21: No. | B21: 誓約事項 | D21: 回答欄
A22: 1 | B22: 賃金、労働時間その他の労働条件を各労働者に書面で明示している。
A23: 2 | B23: 常時使用する労働者が１０人以上の場合にあっては、就業規則を作成し、所轄の労働基準監督署長に届け出るとともに、作業場の見やすい場所に常時掲示する等、法令に従った方法で労働者に周知している。
D24: ⇒労働基準監督署の受付印のある就業規則届の写し等、届け出たことがわかる書類を添付してください。
D25: (常時使用する労働者が10人未満であるため)
A27: 3 | B27: 法定労働時間を超えて労働時間の延長又は休日労働を行わせる場合にあっては、時間外又は休日労働に係る協定（３６協定）届を所轄の労働基準監督署長に届け出ている。 ※法定労働時間は、原則として１日８時間以内かつ１週４０時間以内（ただし、労働者数１０人未満の「商業」、「映画・演劇業（映画製作の事業を除く。）」、「保健衛生業」及び「接客娯楽業」は特例措置対象事業場に該当し、１週４４時間以内）
D28: ⇒労働基準監督署の受付印のある協定届の写し等、届け出たことがわかる書類を添付してください。
D29: （労働時間の延長又は休日労働を行わせていないため）
A31: 4 | B31: 法定の年次有給休暇を付与している。 また、年次有給休暇が１０日以上付与される労働者に対しては、１年以内に５日以上取得させている。
A33: 5 | B33: 労働者名簿及び賃金台帳を整備するとともに、健康管理の観点から、労働者の労働時間の状況を客観的に把握している。
A37: 〔安全衛生〕
A38: No. | B38: 誓約事項 | D38: 回答欄
A39: 6 | B39: 事業場ごとに次の者を選任している。 | D39: 選任している者及び該当する項目に☑し、括弧内に氏名を記入してください。
B40: (1)常時使用する労働者が５０人以上の場合
D41: (1)常時使用する労働者が５０人以上の場合
B42: 安全管理者（労働安全衛生法施行令第３条に掲げる業種に限る。）、衛生管理者及び産業医
D43: （ ）
B44: (2)常時使用する労働者が１０人以上５０人未満の場合 | D44: (労働安全衛生法施行令第３条に掲げる業種ではないため)
B45: 安全衛生推進者又は衛生推進者
D46: （ ）
D48: （ ）
D50: (2)常時使用する労働者が１０人以上５０人未満の場合
D52: （ ）
D54: （ ）
D56: (3)常時使用する労働者が１０人未満の場合
D57: (常時使用する労働者が10人未満であるため)
A58: 7 | B58: 機械等による負傷、粉じん等に起因する疾病等の労働災害を防止する措置を講じている。
...

Sheet 市税滞納有無調査承諾書
AL2: 担当課 | AS2: 契約政策課 物品契約班
B7: 市 税 滞 納 有 無 調 査 承 諾 書
AT11: =IF('様1 申請書 '!AX16="","",'様1 申請書 '!AX16) -> 令和 年 月 日
C13: 熊本市長（宛）
C17: 熊本市の競争入札等参加資格審査申請に伴い、熊本市市税（延滞金含む。）滞納の有無を調査され
C19: ることを承諾します。
G22: 承認期間 | S22: 申 請 日 | AG22: ～ | AL22: 令和11年（2029年） | BB22: 3 | BF22: 月 | BH22: 31 | BK22: 日
T25: 申請者 | Z25: 所在地 | AM25: =IF('様1 申請書 '!M33="","",'様1 申請書 '!M33)
Z29: フリガナ | AM29: =IF('様1 申請書 '!M36="","",'様1 申請書 '!M36)
Z31: 商号又は名称 | AM31: =IF('様1 申請書 '!M37="","",'様1 申請書 '!M37)
Z34: 役職名 | AM34: =IF('様1 申請書 '!P41="","",'様1 申請書 '!P41)
Z36: フリガナ | AM36: =IF('様1 申請書 '!AQ40="","",'様1 申請書 '!AQ40)
Z38: 代表者氏名 | AM38: =IF('様1 申請書 '!AQ41="","",'様1 申請書 '!AQ41)
C47: 納税課確認欄
G53: 申請者 | S53: 1.滞納なし
S57: 2.滞納あり | AE57: 市民税（特徴・普徴） | AS57: ・ | AV57: 固定資産税 | BD57: ・ | BG57: 法人市民税
AE60: 軽自動車税 | AM60: ・ | AP60: 事業所税 | AX60: ・ | BA60: 特別土地保有税
AE63: その他（ | AY63: ）
S66: 3.滞納あり | AE66: （分割納付約束履行中）
AE68: （滞納解消予定時期 年 月 日）
G70: 上記のとおり確認しました。
AK72: 年 | AQ72: 月 | AW72: 日
AR76: 納 税 課 長
AY79: （令和7年 8月 改正）

Sheet 役員名簿
L1: ｱｲｳｴｵｶｷｸｹｺｻｼｽｾｿﾀﾁﾂﾃﾄﾅﾆﾇﾈﾉﾊﾋﾌﾍﾎﾏﾐﾑﾒﾓﾔﾕﾖﾗﾘﾙﾚﾛﾜｦﾝｰﾞﾟ0123456789･
A2: 役員等名簿及び照会承諾書
D4: 所在地 | E4: =IF('様1 申請書 '!M33="","",'様1 申請書 '!M33)
D6: 商号又は名称 | E6: =IF('様1 申請書 '!M37="","",'様1 申請書 '!M37)
D9: 役職名 | E9: =IF('様1 申請書 '!P41="","",'様1 申請書 '!P41)
D11: 代表者氏名 | E11: =IF('様1 申請書 '!AQ41="","",'様1 申請書 '!AQ41)
A14: 下記の役員等名簿に相違ないことを誓約するとともに、この名簿に記載した者について、熊本市が締結する契約等からの暴力団等排除に関する合意書３に定める項目のいずれかに該当するか否かに関し、熊本県警察本部に照会することを承諾します。
A17: ※ 記載する前に、裏面の注意事項をお読みください。
A19: 役職 | B19: ﾌﾘｶﾞﾅ | C19: 氏名 | D19: 生年月日 | H19: 性別
D20: 元号 | E20: 年 | F20: 月 | G20: 日
K21: 01
K22: 02
K23: 03
K24: 04
K25: 05
K26: 06
K27: 07
K28: 08
K29: 09
K30: 10
K31: 11
K32: 12
... K51: 31
F52: （令和8年 8月 改正） | K52: 32
K53: 33
K54: 34
K55: 35
K56: 36
K57: 37
K58: 38
K59: 39
K60: 40
K61: 41
K62: 42
K63: 43
K64: 44
... K84: 64
